Workbook

Sheet 参加申込書
B1: 太平山自然学習センター所長 宛
B2: 令和８年度「まんたらめ 秋のファミリーキャンプ」申込書（メール用フォーム）
Q3: （ | R3: 参加申込日 | W3: 令和８年●月●日 | AH3: ）
B5: 参加希望人数 | K5: 人
B7: 代 表 者 | D7: ふりがな | W7: 性 別 | AA7: 年齢（１１月７日現在）
D8: 代 表 者 氏 名
AA9: 生年月日
D11: 住 所 | H11: 〒
D14: 連 絡 先 | H14: TEL | R14: FAX
H15: 携帯
B17: 代 表 者 以 外 の 参 加 者 | D17: ふ り が な | L17: 年齢（11月7日現在） | Q17: 性別 | T17: 小・中学生の場合 | AA17: 住所・電話番号 （代表者と異なる場合のみ記入
D18: 氏 名 | L18: 生年月日 | T18: 学校名（学年）
B29: 提出期限 令和８年９月２８日（月）

Sheet Sheet1
B3: Ｓ | C3: 男
B4: Ｈ | C4: 女
B5: Ｒ

Sheet Sheet2
D2: Ｇ人数 | E2: 氏名 | F2: ふりがな | G2: 性別 | H2: 年齢 | I2: 生年月日 | K2: 未就学 | L2: 学校名等 | M2: 郵便番号 | N2: 住所 | O2: 電話番号 | P2: 携帯番号
D3: =参加申込書!H5 -> 0 | E3: =参加申込書!H8 -> 0 | F3: =参加申込書!H7 -> 0 | G3: =参加申込書!W9 -> 0 | H3: =参加申込書!AA8 -> 0 | I3: =参加申込書!AA10 -> 0 | J3: =参加申込書!AB10 -> 0 | M3: =参加申込書!I11 -> 0 | N3: =参加申込書!H12 -> 0 | O3: =参加申込書!J14 -> 0 | P3: =参加申込書!J15 -> 0
E4: =参加申込書!D20 -> 0 | F4: =参加申込書!D19 -> 0 | G4: =参加申込書!Q19 -> 0 | H4: =参加申込書!L19 -> 0 | I4: =参加申込書!L20 -> 0 | J4: =参加申込書!M20 -> 0 | L4: =参加申込書!T19 -> 0 | N4: =参加申込書!AA19 -> 0 | P4: =参加申込書!AA20 -> 0
E5: =参加申込書!D22 -> 0 | F5: =参加申込書!D21 -> 0 | G5: =参加申込書!Q21 -> 0 | H5: =参加申込書!L21 -> 0 | I5: =参加申込書!L22 -> 0 | J5: =参加申込書!M22 -> 0 | L5: =参加申込書!T21 -> 0 | N5: =参加申込書!AA21 -> 0 | P5: =参加申込書!AA22 -> 0
E6: =参加申込書!D24 -> 0 | F6: =参加申込書!D23 -> 0 | G6: =参加申込書!Q23 -> 0 | H6: =参加申込書!L23 -> 0 | I6: =参加申込書!L24 -> 0 | J6: =参加申込書!M24 -> 0 | L6: =参加申込書!T23 -> 0 | N6: =参加申込書!AA23 -> 0 | P6: =参加申込書!AA24 -> 0
E7: =参加申込書!D26 -> 0 | F7: =参加申込書!D25 -> 0 | G7: =参加申込書!Q25 -> 0 | H7: =参加申込書!L25 -> 0 | I7: =参加申込書!L26 -> 0 | J7: =参加申込書!M26 -> 0 | L7: =参加申込書!T25 -> 0 | N7: =参加申込書!AA25 -> 0 | P7: =参加申込書!AA26 -> 0
E8: =参加申込書!D28 -> 0 | F8: =参加申込書!D27 -> 0 | G8: =参加申込書!Q27 -> 0 | H8: =参加申込書!L27 -> 0 | I8: =参加申込書!L28 -> 0 | J8: =参加申込書!M28 -> 0 | L8: =参加申込書!T27 -> 0 | N8: =参加申込書!AA27 -> 0 | P8: =参加申込書!AA28 -> 0
